BEGIN:VCALENDAR
VERSION:2.0
PRODID:-//wp-events-plugin.com//7.2.3.1//EN
TZID:Europe/Berlin
X-WR-TIMEZONE:Europe/Berlin
BEGIN:VEVENT
UID:252@lyra-schriesheim.de
DTSTART;TZID=Europe/Berlin:20230126T183000
DTEND;TZID=Europe/Berlin:20230126T200000
DTSTAMP:20230123T075811Z
URL:https://lyra-schriesheim.de/events/chorprobe-im-saengerheim-2023-01-26
 /
SUMMARY:!!Chorprobe geänderter Beginn!!
DESCRIPTION:Die Singstunde beginnt wegen der Hauptversammlung heute schon u
 m 18:30 Uhr!
ATTACH;FMTTYPE=image/jpeg:https://lyra-schriesheim.de/wp-content/uploads/2
 022/07/EingangLyra.png
CATEGORIES:intern,öffentlich,Probe
LOCATION:Sängerheim "Frank"\, Bismarckstraße 48\, Schriesheim\, Deutschla
 nd\, 69198\, Deutschland
GEO:49.477519;8.661784
X-APPLE-STRUCTURED-LOCATION;VALUE=URI;X-ADDRESS=Bismarckstraße 48\, Schrie
 sheim\, Deutschland\, 69198\, Deutschland;X-APPLE-RADIUS=100;X-TITLE=Säng
 erheim \"Frank\":geo:49.477519,8.661784
END:VEVENT
BEGIN:VTIMEZONE
TZID:Europe/Berlin
X-LIC-LOCATION:Europe/Berlin
BEGIN:STANDARD
DTSTART:20221030T020000
TZOFFSETFROM:+0200
TZOFFSETTO:+0100
TZNAME:CET
END:STANDARD
END:VTIMEZONE
END:VCALENDAR