BEGIN:VCALENDAR
VERSION:2.0
PRODID:-//wp-events-plugin.com//7.2.3.1//EN
TZID:Europe/Berlin
X-WR-TIMEZONE:Europe/Berlin
BEGIN:VEVENT
UID:518@lyra-schriesheim.de
DTSTART;TZID=Europe/Berlin:20260523T110000
DTEND;TZID=Europe/Berlin:20260523T170000
DTSTAMP:20260306T064846Z
URL:https://lyra-schriesheim.de/events/lyra-klause-3/
SUMMARY:Lyra-Klause
DESCRIPTION:Liebe Einwohnerinnen und Einwohner von Schriesheim\, Altenbach\
 , Ursenbach und den umliegenden Gemeinden\,\nseien Sie herzlich eingeladen
 \, am Samstag\, den 23.05.2026 um 11.30 Uhr zum 3. traditionellen Knöchel
 essen bei der MGV Lyra 1923 Schriesheim zu kommen.\n\nWieder einmal bieten
  wir deftiges bürgerliches Essen\, Knöchel mit Kraut\, Bratwurst mit Br
 ötchen und selbst gebackenen Kuchen - zum Verzehr vor Ort und zum Mitnehm
 en. Auch der Gesang soll nicht zu kurz kommen. Wir haben ein bisschen was 
 vorbereitet\, sind aber auch wieder gerne bereit\, spontan mit Bruderchör
 en und mit den Anwesenden zusammen bekannte Lieder und Weisen zu schmetter
 n.\n\nWir hoffen auf gutes Wetter und zahlreichen Besuch. Gute Laune\, gut
 es Essen und guten Gesang können wir – und das können unsere Gäste au
 s dem letzten Jahr bestätigen und garantieren. Merken Sie sich bitte den 
 Termin\, wir freuen uns\, wenn Sie zu uns kommen.\n\nHinweis für die Sän
 ger:\nBitte zieht das Polo-Shirt an\n\n&nbsp\;
ATTACH;FMTTYPE=image/jpeg:https://lyra-schriesheim.de/wp-content/uploads/2
 025/02/close-up-of-juicy-grilled-sausages-served-with-fresh-sliced-tomatoe
 s.-929137-scaled.jpg
CATEGORIES:öffentlich
LOCATION:Sängerheim "Frank"\, Bismarckstraße 48\, Schriesheim\, Deutschla
 nd\, 69198\, Deutschland
GEO:49.477519;8.661784
X-APPLE-STRUCTURED-LOCATION;VALUE=URI;X-ADDRESS=Bismarckstraße 48\, Schrie
 sheim\, Deutschland\, 69198\, Deutschland;X-APPLE-RADIUS=100;X-TITLE=Säng
 erheim \"Frank\":geo:49.477519,8.661784
END:VEVENT
BEGIN:VTIMEZONE
TZID:Europe/Berlin
X-LIC-LOCATION:Europe/Berlin
BEGIN:DAYLIGHT
DTSTART:20260329T030000
TZOFFSETFROM:+0100
TZOFFSETTO:+0200
TZNAME:CEST
END:DAYLIGHT
END:VTIMEZONE
END:VCALENDAR