BEGIN:VCALENDAR
VERSION:2.0
PRODID:-//wp-events-plugin.com//7.2.3.1//EN
TZID:Europe/Berlin
X-WR-TIMEZONE:Europe/Berlin
BEGIN:VEVENT
UID:522@lyra-schriesheim.de
DTSTART;TZID=Europe/Berlin;VALUE=DATE:20260719
DTEND;TZID=Europe/Berlin;VALUE=DATE:20260720
DTSTAMP:20260417T114414Z
URL:https://lyra-schriesheim.de/events/parkfest/
SUMMARY:Parkfest
DESCRIPTION:geplanter Auftritt am Parkfest in Lörzenbach
ATTACH;FMTTYPE=image/jpeg:https://lyra-schriesheim.de/wp-content/uploads/2
 026/04/vibrant-ferris-wheel-against-a-clear-blue-sky-at-the-pushkar-fair-i
 n-rajasthan-india.-29919695-scaled.jpg
CATEGORIES:öffentlich
LOCATION:Lörzenbacher Park\, Weinheimer Str. 2\, Fürth\, 64658 \, Deutsch
 land
GEO:49.639848;8.762779
X-APPLE-STRUCTURED-LOCATION;VALUE=URI;X-ADDRESS=Weinheimer Str. 2\, Fürth\
 , 64658 \, Deutschland;X-APPLE-RADIUS=100;X-TITLE=Lörzenbacher Park:geo:4
 9.639848,8.762779
END:VEVENT
BEGIN:VTIMEZONE
TZID:Europe/Berlin
X-LIC-LOCATION:Europe/Berlin
BEGIN:DAYLIGHT
DTSTART:20260329T030000
TZOFFSETFROM:+0100
TZOFFSETTO:+0200
TZNAME:CEST
END:DAYLIGHT
END:VTIMEZONE
END:VCALENDAR