BEGIN:VCALENDAR
VERSION:2.0
PRODID:-//wp-events-plugin.com//7.2.3.1//EN
TZID:Europe/Berlin
X-WR-TIMEZONE:Europe/Berlin
BEGIN:VEVENT
UID:465@lyra-schriesheim.de
DTSTART;TZID=Europe/Berlin:20251116T120000
DTEND;TZID=Europe/Berlin:20251116T130000
DTSTAMP:20251113T095115Z
URL:https://lyra-schriesheim.de/events/volkstrauertag-3/
SUMMARY:Volkstrauertag
DESCRIPTION:Am Sonntag\, den 16.11. 2025 werden wie jedes Jahr wieder die d
 rei Chöre Schriesheims den Volkstrauertag musikalisch begleiten.\n\nDie S
 änger der drei Männerchöre treffen sich um 11:00 Uhr im unteren Schulho
 f der Strahlenberger Grundschule zum Einsingen\n\nhttps://lyra-schriesheim
 .de/2024/11/volkstrauertag-4/\n\n&nbsp\;
ATTACH;FMTTYPE=image/jpeg:https://lyra-schriesheim.de/wp-content/uploads/2
 022/10/a20221112_090423.jpg
CATEGORIES:öffentlich
LOCATION:Denkmal\, Römerstraße 23\, Schriesheim\, 69198 \, Deutschland
GEO:49.474586;8.661482
X-APPLE-STRUCTURED-LOCATION;VALUE=URI;X-ADDRESS=Römerstraße 23\, Schriesh
 eim\, 69198 \, Deutschland;X-APPLE-RADIUS=100;X-TITLE=Denkmal:geo:49.47458
 6,8.661482
END:VEVENT
BEGIN:VTIMEZONE
TZID:Europe/Berlin
X-LIC-LOCATION:Europe/Berlin
BEGIN:STANDARD
DTSTART:20251026T020000
TZOFFSETFROM:+0200
TZOFFSETTO:+0100
TZNAME:CET
END:STANDARD
END:VTIMEZONE
END:VCALENDAR